BEGIN:VCALENDAR
VERSION:2.0
PRODID:-//ChamberMaster//Event Calendar 2.0//EN
METHOD:PUBLISH
X-PUBLISHED-TTL:P3D
REFRESH-INTERVAL:P3D
CALSCALE:GREGORIAN
BEGIN:VEVENT
DTSTART:20180419T233000Z
DTEND:20180420T020000Z
X-MICROSOFT-CDO-ALLDAYEVENT:FALSE
SUMMARY:1964 The Tribute
DESCRIPTION:1964 The Tribute recreates a Beatles concert exactly as it was in 1964\, from the haircuts\, the voices\, the suits\, the boots\, to the vintage instruments. If you miss The Beatles\, don't miss 1964 The Tribute coming to DeVos Performance Hall on Thursday\, April 19th at 7:30PM. They've been called 'born again Beatles'\, the world's #1 Beatles show by Rolling Stones magazine and have 7 straight sell outs at Carnegie Hall! Join us as we celebrate 1964 and The Beatles! Tickets go on sale Monday\, December 4th at 10AM. Tickets are available online at Ticketmaster.com\, the Van Andel Arena and DeVos Place box office and charge by phone at 800-745-3000. Prices are subject to change.
X-ALT-DESC;FMTTYPE=text/html:1964 The Tribute recreates a Beatles concert exactly as it was in 1964\, from the haircuts\, the voices\, the suits\, the boots\, to the vintage instruments. If you miss The Beatles\, don&#39\;t miss 1964 The Tribute coming to DeVos Performance Hall on Thursday\, April 19th at 7:30PM. They&#39\;ve been called &#39\;born again Beatles&#39\;\, the world&#39\;s #1 Beatles show by Rolling Stones magazine and have 7 straight sell outs at Carnegie Hall! Join us as we celebrate 1964 and The Beatles! Tickets go on sale Monday\, December 4th at 10AM. Tickets are available online at Ticketmaster.com\, the Van Andel Arena and DeVos Place box office and charge by phone at 800-745-3000. Prices are subject to change.
LOCATION:DeVos Performance Hall
UID:e.2018.715
SEQUENCE:3
DTSTAMP:20260422T200655Z
URL:https://members.westmihcc.org/events/details/1964-the-tribute-715
END:VEVENT

END:VCALENDAR
