BEGIN:VCALENDAR
VERSION:2.0
PRODID:-//ChamberMaster//Event Calendar 2.0//EN
METHOD:PUBLISH
X-PUBLISHED-TTL:P3D
REFRESH-INTERVAL:P3D
CALSCALE:GREGORIAN
BEGIN:VEVENT
DTSTART:20161207T123000Z
DTEND:20161207T140000Z
X-MICROSOFT-CDO-ALLDAYEVENT:FALSE
SUMMARY:2016 Ready for School Annual Breakfast
DESCRIPTION:Register Here
X-ALT-DESC;FMTTYPE=text/html:<a href="http://readyforschool.org/breakfast/">Register Here</a>
LOCATION:The Haworth Inn and Conference Center 225 College Avenue\, Holland\, MI
UID:e.2018.511
SEQUENCE:3
DTSTAMP:20260425T195452Z
URL:https://members.westmihcc.org/events/details/2016-ready-for-school-annual-breakfast-511
END:VEVENT

END:VCALENDAR
