BEGIN:VCALENDAR
VERSION:2.0
PRODID:-//ChamberMaster//Event Calendar 2.0//EN
METHOD:PUBLISH
X-PUBLISHED-TTL:P3D
REFRESH-INTERVAL:P3D
CALSCALE:GREGORIAN
BEGIN:VEVENT
DTSTART:20171010T153000Z
DTEND:20171010T173000Z
X-MICROSOFT-CDO-ALLDAYEVENT:FALSE
SUMMARY:2017 Seeds of GROWth Luncheon
DESCRIPTION:GROW is proud to present The Seeds of GROWth Awards Luncheon and Fundraiser once again this year at the JW Marriott in downtown Grand Rapids. Join GROW and 300 of Grand Rapids' business leaders as we recognize the award winners in the categories of: Business of the Year\; Leadership Award\; the Lee Ann Moss Service Award\, and the GROW Partner Award.
X-ALT-DESC;FMTTYPE=text/html:GROW is proud to present The Seeds of GROWth Awards Luncheon and Fundraiser once again this year at the JW Marriott in downtown Grand Rapids. Join GROW and 300 of Grand Rapids&#39\; business leaders as we recognize the award winners in the categories of: Business of the Year\; Leadership Award\; the Lee Ann Moss Service Award\, and the GROW Partner Award.
LOCATION:J.W. Marriott
UID:e.2018.651
SEQUENCE:3
DTSTAMP:20260423T051346Z
URL:https://members.westmihcc.org/events/details/2017-seeds-of-growth-luncheon-651
END:VEVENT

END:VCALENDAR
