BEGIN:VCALENDAR
VERSION:2.0
PRODID:-//ChamberMaster//Event Calendar 2.0//EN
METHOD:PUBLISH
X-PUBLISHED-TTL:P3D
REFRESH-INTERVAL:P3D
CALSCALE:GREGORIAN
BEGIN:VEVENT
DTSTART:20181012T140000Z
DTEND:20181012T160000Z
X-MICROSOFT-CDO-ALLDAYEVENT:FALSE
SUMMARY:2018 Senior Volunteer Fair
DESCRIPTION:The annual Volunteer Fair is organized by the Senior Leadership\, part of the Area Agency on Aging of Western Michigan. Over 40 community organizations will be represented! All of them provide great volunteering opportunities for seniors. Registration Requested! To register: Email: registration@aaawm.org or Call: (616) 222-7042 Please include in your message:   Name(s)   Phone Number Here is what registrants can expect:   Free refreshments   Free parking   Open house format
X-ALT-DESC;FMTTYPE=text/html:The annual Volunteer Fair is organized by the Senior Leadership\, part of the Area Agency on Aging of Western Michigan. Over 40 community organizations will be represented! All of them provide great volunteering opportunities for seniors. Registration Requested! To register: Email: registration@aaawm.org or Call: (616) 222-7042 Please include in your message: &bull\; Name(s) &bull\; Phone Number Here is what registrants can expect: &bull\; Free refreshments &bull\; Free parking &bull\; Open house format
LOCATION:Kroc Center 2500 Division Ave S Grand Rapids\, MI 49507
UID:e.2018.912
SEQUENCE:3
DTSTAMP:20260422T122350Z
URL:https://members.westmihcc.org/events/details/2018-senior-volunteer-fair-912
END:VEVENT

END:VCALENDAR
