BEGIN:VCALENDAR
VERSION:2.0
PRODID:-//ChamberMaster//Event Calendar 2.0//EN
METHOD:PUBLISH
X-PUBLISHED-TTL:P3D
REFRESH-INTERVAL:P3D
CALSCALE:GREGORIAN
BEGIN:VEVENT
DTSTART:20181206T220000Z
DTEND:20181207T003000Z
X-MICROSOFT-CDO-ALLDAYEVENT:FALSE
SUMMARY:2018 Sparkle Holiday Celebration
DESCRIPTION:Join us this year at Cascade Hills Country Club for a night of shopping and a silent auction in an upscale social atmosphere. Appetizers and two drink tickets are provided. Bring a friend to browse the many unique vendor tables\, and start a bidding war for your favorite one-of-a-kind silent auction item! All event proceeds go directly to programming that empowers women here in West Michigan to reach for their dreams and shape the economy of our community.
X-ALT-DESC;FMTTYPE=text/html:Join us this year at Cascade Hills Country Club for a night of shopping and a silent auction in an upscale social atmosphere. Appetizers and two drink tickets are provided. Bring a friend to browse the many unique vendor tables\, and start a bidding war for your favorite one-of-a-kind silent auction item! All event proceeds go directly to programming that empowers women here in West Michigan to reach for their dreams and shape the economy of our community.
LOCATION:Cascade Hills Country Club
UID:e.2018.994
SEQUENCE:3
DTSTAMP:20260422T094733Z
URL:https://members.westmihcc.org/events/details/2018-sparkle-holiday-celebration-994
END:VEVENT

END:VCALENDAR
