BEGIN:VCALENDAR
VERSION:2.0
PRODID:-//ChamberMaster//Event Calendar 2.0//EN
METHOD:PUBLISH
X-PUBLISHED-TTL:P3D
REFRESH-INTERVAL:P3D
CALSCALE:GREGORIAN
BEGIN:VEVENT
DTSTART:20190824T120000Z
DTEND:20190824T170000Z
X-MICROSOFT-CDO-ALLDAYEVENT:FALSE
SUMMARY:2019 Latino Health 5K Walk/Run
DESCRIPTION:With a focus on health and wellness promotion\, the West Michigan Hispanic Chamber of Commerce held its first Annual Latino Health 5K Run/Walk in September of 2015.\n\n\n\nThe goal was to encourage Hispanic families to maintain a healthy lifestyle and incorporate physical activity\, such as running or walking\, into their daily lives. Chronic illnesses such as diabetes and high cholesterol\, affect minority groups at an increased rate\, which has been attributed to poor diet and lack of exercise.\n\n\n\nWe believe by showcasing the fun side of physical activity through a family-oriented 5K walk and run\, participants can feel energized and prepared to continue striving toward better overall community health. The run/walk begins and finishes at Roosevelt Park and winds through Grandville Avenue and surrounding park area.\n\n\n\nJust four years after the first Latino Health 5K\, we had over 400 participants in 2018 and our goal remains centered on elevating the health of the Hispanic community. While the event is geared towards the Latino\n\ncommunity\, we invite all of West Michigan to support in our endeavor to promote healthy habits and a balanced lifestyle. Funds raised for and during this event allow us to continue our initiatives that promote the economic advancement of Hispanic owned businesses. \n\n\n\nTo register please visit https://runsignup.com/Race/MI/GrandRapids/WestMichiganLatinoHealth5kWalkRun\n\n\n\nInterested in volunteering? Check out the opportunities available here.
X-ALT-DESC;FMTTYPE=text/html:With a focus on health and wellness promotion\, the West Michigan Hispanic Chamber of Commerce held its first <strong><span style="color:#FF0000\;">Annual Latino Health 5K Run/Walk</span></strong> in September of 2015.<br />\n<br />\nThe goal was to encourage Hispanic families to maintain a <span style="color:#FF0000\;"><strong>healthy lifestyle</strong></span> and incorporate physical activity\, such as running or walking\, into their daily lives. Chronic illnesses such as diabetes and high cholesterol\, affect minority groups at an increased rate\, which has been attributed to poor diet and lack of exercise.<br />\n<br />\nWe believe by showcasing the <strong><span style="color:#FF0000\;">fun side</span></strong> of physical activity through a&nbsp\;<span style="color:#FF0000\;"><strong>family-oriented</strong></span> 5K walk and run\, participants can feel energized and prepared to continue striving toward better overall community health. The run/walk begins and finishes at Roosevelt Park and winds through Grandville Avenue and surrounding park area.<br />\n<br />\nJust four years after the first Latino Health 5K\, we had over <strong><span style="color:#FF0000\;">400 participants</span></strong>&nbsp\;in 2018 and our goal remains centered on elevating the health of the Hispanic community. While the event is geared towards the Latino<br />\ncommunity\, we invite all of West Michigan to support in our endeavor to promote healthy habits and a balanced lifestyle. <em>Funds raised for and during this event allow us to continue our initiatives that promote the economic advancement of Hispanic owned businesses.&nbsp\;<br />\n<br />\nTo register please visit&nbsp\;</em><a href="https://runsignup.com/Race/MI/GrandRapids/WestMichiganLatinoHealth5kWalkRun">https://runsignup.com/Race/MI/GrandRapids/WestMichiganLatinoHealth5kWalkRun</a><br />\n<br />\n<em>Interested in volunteering? Check out the opportunities available <strong><a href="https://www.eventbrite.com/e/2019-latino-health-5k-volunteers-tickets-67660126259">here</a>.</strong></em>
LOCATION:Roosevelt Park 739 VanRaalte SW\, Grand Rapids\, MI 49503
UID:e.2018.1066
SEQUENCE:3
DTSTAMP:20260419T225841Z
URL:https://members.westmihcc.org/events/details/2019-latino-health-5k-walk-run-1066
END:VEVENT

END:VCALENDAR
