BEGIN:VCALENDAR
VERSION:2.0
PRODID:-//ChamberMaster//Event Calendar 2.0//EN
METHOD:PUBLISH
X-PUBLISHED-TTL:P3D
REFRESH-INTERVAL:P3D
CALSCALE:GREGORIAN
BEGIN:VEVENT
DTSTART:20191015T153000Z
DTEND:20191015T173000Z
X-MICROSOFT-CDO-ALLDAYEVENT:FALSE
SUMMARY:2019 Seeds of GROWth Luncheon
DESCRIPTION:In celebration of our 30-year anniversary\, GROW is proud to present The Seeds of GROWth Awards Luncheon and Fundraiser once again this year at the JW Marriott Hotel in downtown Grand Rapids. Join GROW and 300 of Grand Rapids' business leaders as we recognize the award winners in the categories of Business of the Year\; Leadership Award\; the LeAnn Moss Service Award\, and the GROW Partner Award\, and welcome our special guest and Founder of GROW\, LeAnne Moss.
X-ALT-DESC;FMTTYPE=text/html:In celebration of our 30-year anniversary\, GROW is proud to present The Seeds of GROWth Awards Luncheon and Fundraiser once again this year at the JW Marriott Hotel in downtown Grand Rapids. Join GROW and 300 of Grand Rapids&#39\; business leaders as we recognize the award winners in the categories of Business of the Year\; Leadership Award\; the LeAnn Moss Service Award\, and the GROW Partner Award\, and welcome our special guest and Founder of GROW\, LeAnne Moss.
LOCATION:JW Marriott
UID:e.2018.1351
SEQUENCE:3
DTSTAMP:20260419T212557Z
URL:https://members.westmihcc.org/events/details/2019-seeds-of-growth-luncheon-1351
END:VEVENT

END:VCALENDAR
