BEGIN:VCALENDAR
VERSION:2.0
PRODID:-//ChamberMaster//Event Calendar 2.0//EN
METHOD:PUBLISH
X-PUBLISHED-TTL:P3D
REFRESH-INTERVAL:P3D
CALSCALE:GREGORIAN
BEGIN:VEVENT
DTSTART:20191205T220000Z
DTEND:20191206T003000Z
X-MICROSOFT-CDO-ALLDAYEVENT:FALSE
SUMMARY:2019 Sparkle Celebration
DESCRIPTION:Holiday season is full of friends\, family and celebrations. GROW invites you to join us and over 100 other ladies for a fun evening celebrating women and their entrepreneurial pursuits. Bring a friend\; shop\, sip and savor and support GROW at the same time. Join us this year at Cascade Hills Country Club for a night of shopping and a silent auction in an upscale social atmosphere. Appetizers and two drink tickets are provided. Bring a friend to browse the many unique vendor tables\, and start a bidding war for your favorite one-of-a-kind silent auction item! All event proceeds go directly to programming that empowers women here in West Michigan to reach for their dreams and shape the economy of our community.
X-ALT-DESC;FMTTYPE=text/html:Holiday season is full of friends\, family and celebrations. GROW invites you to join us and over 100 other ladies for a fun evening celebrating women and their entrepreneurial pursuits. Bring a friend\; shop\, sip and savor and support GROW at the same time. Join us this year at Cascade Hills Country Club for a night of shopping and a silent auction in an upscale social atmosphere. Appetizers and two drink tickets are provided. Bring a friend to browse the many unique vendor tables\, and start a bidding war for your favorite one-of-a-kind silent auction item! All event proceeds go directly to programming that empowers women here in West Michigan to reach for their dreams and shape the economy of our community.
LOCATION:Cascade Hills Country Club
UID:e.2018.1383
SEQUENCE:3
DTSTAMP:20260419T165009Z
URL:https://members.westmihcc.org/events/details/2019-sparkle-celebration-1383
END:VEVENT

END:VCALENDAR
