BEGIN:VCALENDAR
VERSION:2.0
PRODID:-//ChamberMaster//Event Calendar 2.0//EN
METHOD:PUBLISH
X-PUBLISHED-TTL:P3D
REFRESH-INTERVAL:P3D
CALSCALE:GREGORIAN
BEGIN:VEVENT
DTSTART:20191213T170000Z
DTEND:20191213T170000Z
X-MICROSOFT-CDO-ALLDAYEVENT:FALSE
SUMMARY:3D Jazz Trio
DESCRIPTION:Led by drummer Sherrie Maricle\, this swingin' powerhouse trio plays original\, traditional\, and contemporary standards from all genres of music\, with their own unique style\, innovative arrangements\, and effervescent musical joy.
X-ALT-DESC;FMTTYPE=text/html:Led by drummer Sherrie Maricle\, this swingin&rsquo\; powerhouse trio plays original\, traditional\, and contemporary standards from all genres of music\, with their own unique style\, innovative arrangements\, and effervescent musical joy.
LOCATION:The Cube 3711Woodward Avenue Detroit\, MI 48201
UID:e.2018.1340
SEQUENCE:3
DTSTAMP:20260419T182549Z
URL:https://members.westmihcc.org/events/details/3d-jazz-trio-1340
END:VEVENT

END:VCALENDAR
