BEGIN:VCALENDAR
VERSION:2.0
PRODID:-//ChamberMaster//Event Calendar 2.0//EN
METHOD:PUBLISH
X-PUBLISHED-TTL:P3D
REFRESH-INTERVAL:P3D
CALSCALE:GREGORIAN
BEGIN:VEVENT
DTSTART:20191108T000000Z
DTEND:20191111T030000Z
X-MICROSOFT-CDO-ALLDAYEVENT:FALSE
SUMMARY:89th Annual Saladin Shrine Circus
DESCRIPTION:All seats are reserved. Please purchase tickets with those who you plan to sit with. Ages 3 and under are free if sitting on a lap
X-ALT-DESC;FMTTYPE=text/html:All seats are reserved. Please purchase tickets with those who you plan to sit with. Ages 3 and under are free if sitting on a lap
LOCATION:The DeltaPlex Arena and Conference Center
UID:e.2018.1337
SEQUENCE:3
DTSTAMP:20260419T182823Z
URL:https://members.westmihcc.org/events/details/89th-annual-saladin-shrine-circus-1337
END:VEVENT

END:VCALENDAR
