BEGIN:VCALENDAR
VERSION:2.0
PRODID:-//ChamberMaster//Event Calendar 2.0//EN
METHOD:PUBLISH
X-PUBLISHED-TTL:P3D
REFRESH-INTERVAL:P3D
CALSCALE:GREGORIAN
BEGIN:VEVENT
DTSTART:20181126T230000Z
DTEND:20181127T030000Z
X-MICROSOFT-CDO-ALLDAYEVENT:FALSE
SUMMARY:97.9 WGRD PRESENTS BREAKING BENJAMIN AND FIVE FINGER DEATH PUNCH
DESCRIPTION:Breaking Benjamin and Five Finger Death Punch bring their co-headling electrifying hard rock performances to Van Andel Arena on Monday\, November 26th. With special guests Bad Wolves and From Ashes To New.
X-ALT-DESC;FMTTYPE=text/html:Breaking Benjamin and Five Finger Death Punch bring their co-headling electrifying hard rock performances to Van Andel Arena on Monday\, November 26th. With special guests Bad Wolves and From Ashes To New.
LOCATION:Van Andel Arena
UID:e.2018.911
SEQUENCE:3
DTSTAMP:20260422T111100Z
URL:https://members.westmihcc.org/events/details/97-9-wgrd-presents-breaking-benjamin-and-five-finger-death-punch-911
END:VEVENT

END:VCALENDAR
