BEGIN:VCALENDAR
VERSION:2.0
PRODID:-//ChamberMaster//Event Calendar 2.0//EN
METHOD:PUBLISH
X-PUBLISHED-TTL:P3D
REFRESH-INTERVAL:P3D
CALSCALE:GREGORIAN
BEGIN:VEVENT
DTSTART:20181125T010000Z
DTEND:20181125T030000Z
X-MICROSOFT-CDO-ALLDAYEVENT:FALSE
SUMMARY:A Drag Queen Christmas: The Naughty Tour
DESCRIPTION:Murray & Peter proudly present the must see annual holiday spectacular\, A Drag Queen Christmas\, with your favorite contestants from RuPaul's Drag Race on Saturday\, November 24th at 8:00PM at DeVos Performance Hall. Drag Queen Christmas: The Naughty Tour will feature Drag Race contestants Latrice Royale\, Naomi Smalls\, Thorgy Thor\, Raja Gemini\, Miss Vanjie & Farrah Moan hosted by the one and only Miz Cracker.
X-ALT-DESC;FMTTYPE=text/html:Murray &amp\; Peter proudly present the must see annual holiday spectacular\, A Drag Queen Christmas\, with your favorite contestants from RuPaul&#39\;s Drag Race on Saturday\, November 24th at 8:00PM at DeVos Performance Hall. Drag Queen Christmas: The Naughty Tour will feature Drag Race contestants Latrice Royale\, Naomi Smalls\, Thorgy Thor\, Raja Gemini\, Miss Vanjie &amp\; Farrah Moan hosted by the one and only Miz Cracker.
LOCATION:Devos Performance Hall
UID:e.2018.972
SEQUENCE:3
DTSTAMP:20260422T111117Z
URL:https://members.westmihcc.org/events/details/a-drag-queen-christmas-the-naughty-tour-972
END:VEVENT

END:VCALENDAR
