BEGIN:VCALENDAR
VERSION:2.0
PRODID:-//ChamberMaster//Event Calendar 2.0//EN
METHOD:PUBLISH
X-PUBLISHED-TTL:P3D
REFRESH-INTERVAL:P3D
CALSCALE:GREGORIAN
BEGIN:VEVENT
DTSTART:20190906T213000Z
DTEND:20190907T000000Z
X-MICROSOFT-CDO-ALLDAYEVENT:FALSE
SUMMARY:A Night of Movement: Tai Chi and Yoga
DESCRIPTION:At 5:30 p.m.\, DSO bassoonist/contrabassoonist and certified instructor Marcus Schoon leads a Yang family Tai chi class accompanied by live music performed by Xiao Hottman. At 7 p.m.\, Detroit Yoga Lab leads a session for yogis of all skill levels. Come one\, come all. Choose your favorite or enjoy both!
X-ALT-DESC;FMTTYPE=text/html:At 5:30 p.m.\, DSO bassoonist/contrabassoonist and certified instructor Marcus Schoon leads a Yang family Tai chi class accompanied by live music performed by Xiao Hottman. At 7 p.m.\, Detroit Yoga Lab leads a session for yogis of all skill levels. Come one\, come all. Choose your favorite or enjoy both!
LOCATION:DSO Sosnick Courtyard\, 51 Parsons St.\, Detroit\, MI 48201 (between Cass Ave. and Woodward Ave. - Midtown Detroit) https://www.dso.org/sosnick
UID:e.2018.1301
SEQUENCE:3
DTSTAMP:20260419T212823Z
URL:https://members.westmihcc.org/events/details/a-night-of-movement-tai-chi-and-yoga-1301
END:VEVENT

END:VCALENDAR
