BEGIN:VCALENDAR
VERSION:2.0
PRODID:-//ChamberMaster//Event Calendar 2.0//EN
METHOD:PUBLISH
X-PUBLISHED-TTL:P3D
REFRESH-INTERVAL:P3D
CALSCALE:GREGORIAN
BEGIN:VEVENT
DTSTART:20160909T190000Z
DTEND:20160909T210000Z
X-MICROSOFT-CDO-ALLDAYEVENT:FALSE
SUMMARY:AARP Life Reimagined Checkup
DESCRIPTION:A free two-hour experience to help you understand where you are in life and what your next move could be. Led by trained Life Reimagined Guides\, this event brings people together to talk about the challenges and choices they're facing and how to make the most of them. Come share your experiences and get inspired about your possibilities. Whether it's work\, family\, or health that's on your mind\, you'll discover new methods and tools to help you achieve your goals
X-ALT-DESC;FMTTYPE=text/html:A free two-hour experience to help you understand where you are in life and what your next move could be. Led by trained Life Reimagined Guides\, this event brings people together to talk about the challenges and choices they&#39\;re facing and how to make the most of them. Come share your experiences and get inspired about your possibilities. Whether it&#39\;s work\, family\, or health that&#39\;s on your mind\, you&#39\;ll discover new methods and tools to help you achieve your goals
LOCATION:VA Office Kent County 836 Fuller NE Grand Rapids\, MI
UID:e.2018.408
SEQUENCE:3
DTSTAMP:20260425T225750Z
URL:https://members.westmihcc.org/events/details/aarp-life-reimagined-checkup-09-09-2016-408
END:VEVENT

END:VCALENDAR
