BEGIN:VCALENDAR
VERSION:2.0
PRODID:-//ChamberMaster//Event Calendar 2.0//EN
METHOD:PUBLISH
X-PUBLISHED-TTL:P3D
REFRESH-INTERVAL:P3D
CALSCALE:GREGORIAN
BEGIN:VEVENT
DTSTART:20160628T230000Z
DTEND:20160629T030000Z
X-MICROSOFT-CDO-ALLDAYEVENT:FALSE
SUMMARY:AARP Night At the Whitecaps
DESCRIPTION:Discount baseball tickets & activities for special AARP night.
X-ALT-DESC;FMTTYPE=text/html:Discount baseball tickets &amp\; activities for special AARP night.
LOCATION:5/3 Ball Park
UID:e.2018.395
SEQUENCE:3
DTSTAMP:20260426T024106Z
URL:https://members.westmihcc.org/events/details/aarp-night-at-the-whitecaps-06-28-2016-395
END:VEVENT

END:VCALENDAR
