BEGIN:VCALENDAR
VERSION:2.0
PRODID:-//ChamberMaster//Event Calendar 2.0//EN
METHOD:PUBLISH
X-PUBLISHED-TTL:P3D
REFRESH-INTERVAL:P3D
CALSCALE:GREGORIAN
BEGIN:VEVENT
DTSTART:20240813T200000Z
DTEND:20240813T213000Z
X-MICROSOFT-CDO-ALLDAYEVENT:FALSE
SUMMARY:Accounting Education Series: What Should My Prices Be?
DESCRIPTION:Incorrect pricing is the most common problem that small businesses face. Owners don't understand how to set their prices properly\, and they don't increase their prices quick enough when trouble is spotted. Properly pricing your products (or services) can literally make or break your business. Yet most small business owners don't take the time to learn (or ask) how to set their pricing. Instead\, this crucial decision is left to chance\, often being decided by throwing a dart at a dartboard - wherever the dart shall land determines the price. It doesn't have to be this way! There is a method to the madness of pricing\, and this presentation is designed to show you how.\n\n\n\nEl problema m s com n al que se enfrentan las peque as empresas es la fijaci n incorrecta de precios. Los propietarios no saben c mo fijar los precios correctamente y no aumentan los precios con la suficiente rapidez cuando detectan un problema. Fijar el precio adecuado a sus productos (o servicios) puede literalmente hacer o deshacer su negocio. Sin embargo\, la mayor a de los propietarios de peque as empresas no se toman el tiempo de aprender (o preguntar) c mo fijar los precios. En cambio\, esta decisi n crucial se deja al azar y\, a menudo\, se decide lanzando un dardo a una diana: el lugar donde caiga el dardo determina el precio.  No tiene por qu  ser as ! Existe un m todo para la locura de los precios\, y esta presentaci n est  dise ada para mostrarle c mo.
X-ALT-DESC;FMTTYPE=text/html:Incorrect pricing is the most common problem that small businesses face. Owners don&rsquo\;t understand how to set their prices properly\, and they don&rsquo\;t increase their prices quick enough when trouble is spotted. Properly pricing your products (or services) can literally make or break your business. Yet most small business owners don&rsquo\;t take the time to learn (or ask) how to set their pricing. Instead\, this crucial decision is left to chance\, often being decided by throwing a dart at a dartboard - wherever the dart shall land determines the price. It doesn&rsquo\;t have to be this way! There is a method to the madness of pricing\, and this presentation is designed to show you how.<br />\n<br />\nEl problema m&aacute\;s com&uacute\;n al que se enfrentan las peque&ntilde\;as empresas es la fijaci&oacute\;n incorrecta de precios. Los propietarios no saben c&oacute\;mo fijar los precios correctamente y no aumentan los precios con la suficiente rapidez cuando detectan un problema. Fijar el precio adecuado a sus productos (o servicios) puede literalmente hacer o deshacer su negocio. Sin embargo\, la mayor&iacute\;a de los propietarios de peque&ntilde\;as empresas no se toman el tiempo de aprender (o preguntar) c&oacute\;mo fijar los precios. En cambio\, esta decisi&oacute\;n crucial se deja al azar y\, a menudo\, se decide lanzando un dardo a una diana: el lugar donde caiga el dardo determina el precio. &iexcl\;No tiene por qu&eacute\; ser as&iacute\;! Existe un m&eacute\;todo para la locura de los precios\, y esta presentaci&oacute\;n est&aacute\; dise&ntilde\;ada para mostrarle c&oacute\;mo.
LOCATION:Participants will learn the following: Why setting your prices is both an art and a science. How to determine the minimum price you should set. What to do if your prices are too low. How "price elasticity" influences your price increases. ...and more! Los participantes aprender n lo siguiente: Por qu fijar sus precios es tanto un arte como una ciencia. C mo determinar el precio m nimo que debe fijar. Qu hacer si sus precios son demasiado bajos. C mo la "elasticidad de precios" influye en el aumento de sus precios. ... y m s!
UID:e.2018.2882
SEQUENCE:3
DTSTAMP:20260419T131349Z
URL:https://members.westmihcc.org/events/details/accounting-education-series-what-should-my-prices-be-2882
END:VEVENT

END:VCALENDAR
