BEGIN:VCALENDAR
VERSION:2.0
PRODID:-//ChamberMaster//Event Calendar 2.0//EN
METHOD:PUBLISH
X-PUBLISHED-TTL:P3D
REFRESH-INTERVAL:P3D
CALSCALE:GREGORIAN
BEGIN:VEVENT
DTSTART;VALUE=DATE:20180611
DTEND;VALUE=DATE:20180616
TRANSP:TRANSPARENT
X-MICROSOFT-CDO-ALLDAYEVENT:TRUE
SUMMARY:Active Commute Week: 2018
DESCRIPTION:Active Commute Week 2018 June 11 - 15\, 2018 Are you ready for some healthy competition? Are you committed to: --improving your health? --reducing your environmental impact? --saving money? --connecting to other community members? Walk\, ride your bike\, roll\, or ride the bus during Active Commute Week (ACW): June 11-15\, 2018. Sign up your organization or as an individual today for the ACW Challenge! Learn more at www.acwgr.org.
X-ALT-DESC;FMTTYPE=text/html:Active Commute Week 2018 June 11 - 15\, 2018 Are you ready for some healthy competition? Are you committed to: --improving your health? --reducing your environmental impact? --saving money? --connecting to other community members? Walk\, ride your bike\, roll\, or ride the bus during Active Commute Week (ACW): June 11-15\, 2018. Sign up your organization or as an individual today for the ACW Challenge! Learn more at www.acwgr.org.
LOCATION:various locations in the Greater Grand Rapids area
UID:e.2018.834
SEQUENCE:3
DTSTAMP:20260422T171619Z
URL:https://members.westmihcc.org/events/details/active-commute-week-2018-834
END:VEVENT

END:VCALENDAR
