BEGIN:VCALENDAR
VERSION:2.0
PRODID:-//ChamberMaster//Event Calendar 2.0//EN
METHOD:PUBLISH
X-PUBLISHED-TTL:P3D
REFRESH-INTERVAL:P3D
CALSCALE:GREGORIAN
BEGIN:VEVENT
DTSTART:20170830T200000Z
DTEND:20170830T220000Z
X-MICROSOFT-CDO-ALLDAYEVENT:FALSE
SUMMARY:ADA Celebration
DESCRIPTION:The ADA Celebration is a community event to celebrate the 27th anniversary of the signing of the Americans with Disabilities Act (ADA). There will be entertainment\, food\, as well as community partners offering information about services that are available and could benefit individuals with disabilities. This event is FREE and open to the public!
X-ALT-DESC;FMTTYPE=text/html:The ADA Celebration is a community event to celebrate the 27th anniversary of the signing of the Americans with Disabilities Act (ADA). There will be entertainment\, food\, as well as community partners offering information about services that are available and could benefit individuals with disabilities. This event is FREE and open to the public!
LOCATION:Kent District Library- Kentwood Branch 4950 Breton Road SE Kentwood\, MI 49508
UID:e.2018.647
SEQUENCE:3
DTSTAMP:20260423T075358Z
URL:https://members.westmihcc.org/events/details/ada-celebration-647
END:VEVENT

END:VCALENDAR
