BEGIN:VCALENDAR
VERSION:2.0
PRODID:-//ChamberMaster//Event Calendar 2.0//EN
METHOD:PUBLISH
X-PUBLISHED-TTL:P3D
REFRESH-INTERVAL:P3D
CALSCALE:GREGORIAN
BEGIN:VEVENT
DTSTART:20190224T003000Z
DTEND:20190224T030000Z
X-MICROSOFT-CDO-ALLDAYEVENT:FALSE
SUMMARY:Alan Jackson
DESCRIPTION:Country Music Hall of Famer Alan Jackson will bring a night of hits to Van Andel Arena on Saturday\, February 23\, 2019. Alan Jackson's concerts find the country icon performing hits that have gained him legions of longtime fans\, songs that continue to draw new crowds as a younger generation discovers his music. Jackson's repertoire stands the test of time\; it has impacted a field of artists who cite Jackson as an influence. It's these same songs - many written by Alan - that earned him his place alongside country music's greatest names and cemented his place in its history with membership in the Country Music Hall of Fame and the Songwriters Hall of Fame. Fans will hear the songs they love from the man who wrote them and made them famous\, including his debut hit "Here in The Real World"... signature songs such as "Chattahoochee\," "Drive" and "Gone Country"... party anthems "It's Five O'Clock Somewhere" and "Good Time"... and many\, many more.
X-ALT-DESC;FMTTYPE=text/html:Country Music Hall of Famer Alan Jackson will bring a night of hits to Van Andel Arena on Saturday\, February 23\, 2019. Alan Jackson&#39\;s concerts find the country icon performing hits that have gained him legions of longtime fans\, songs that continue to draw new crowds as a younger generation discovers his music. Jackson&#39\;s repertoire stands the test of time\; it has impacted a field of artists who cite Jackson as an influence. It&#39\;s these same songs - many written by Alan - that earned him his place alongside country music&#39\;s greatest names and cemented his place in its history with membership in the Country Music Hall of Fame and the Songwriters Hall of Fame. Fans will hear the songs they love from the man who wrote them and made them famous\, including his debut hit &quot\;Here in The Real World&quot\;... signature songs such as &quot\;Chattahoochee\,&quot\; &quot\;Drive&quot\; and &quot\;Gone Country&quot\;... party anthems &quot\;It&#39\;s Five O&#39\;Clock Somewhere&quot\; and &quot\;Good Time&quot\;... and many\, many more.
LOCATION:Van Andel Arena
UID:e.2018.1007
SEQUENCE:3
DTSTAMP:20260420T074320Z
URL:https://members.westmihcc.org/events/details/alan-jackson-1007
END:VEVENT

END:VCALENDAR
