BEGIN:VCALENDAR
VERSION:2.0
PRODID:-//ChamberMaster//Event Calendar 2.0//EN
METHOD:PUBLISH
X-PUBLISHED-TTL:P3D
REFRESH-INTERVAL:P3D
CALSCALE:GREGORIAN
BEGIN:VEVENT
DTSTART:20181030T000000Z
DTEND:20181030T030000Z
X-MICROSOFT-CDO-ALLDAYEVENT:FALSE
SUMMARY:Alice Cooper
DESCRIPTION:Alice Cooper pioneered a grandly theatrical brand of hard rock that was designed to shock. Drawing equally from horror movies\, vaudeville\, and garage rock\, the group created a stage show that featured electric chairs\, guillotines\, fake blood and boa constrictors. He continues to tour regularly\, performing shows worldwide with the dark and horror-themed theatrics that he's best known for.
X-ALT-DESC;FMTTYPE=text/html:Alice Cooper pioneered a grandly theatrical brand of hard rock that was designed to shock. Drawing equally from horror movies\, vaudeville\, and garage rock\, the group created a stage show that featured electric chairs\, guillotines\, fake blood and boa constrictors. He continues to tour regularly\, performing shows worldwide with the dark and horror-themed theatrics that he&#39\;s best known for.
LOCATION:DeVos Performance Hall
UID:e.2018.830
SEQUENCE:3
DTSTAMP:20260422T121302Z
URL:https://members.westmihcc.org/events/details/alice-cooper-830
END:VEVENT

END:VCALENDAR
