BEGIN:VCALENDAR
VERSION:2.0
PRODID:-//ChamberMaster//Event Calendar 2.0//EN
METHOD:PUBLISH
X-PUBLISHED-TTL:P3D
REFRESH-INTERVAL:P3D
CALSCALE:GREGORIAN
BEGIN:VEVENT
DTSTART:20190411T203000Z
DTEND:20190411T213000Z
X-MICROSOFT-CDO-ALLDAYEVENT:FALSE
SUMMARY:Ambassador Informational Meeting
DESCRIPTION:Are you interested in learning more about what it means to be an Ambassador for the West Michigan Hispanic Chamber of Commerce? Join us for an informational meeting to hear about the awesome opportunities that are available to represent your local Hispanic Chamber.
X-ALT-DESC;FMTTYPE=text/html:Are you interested in learning more about what it means to be an Ambassador for the West Michigan Hispanic Chamber of Commerce? Join us for an informational meeting to hear about the awesome opportunities that are available to represent your local Hispanic Chamber.&nbsp\;
LOCATION:WMHCC Office 2007 S Division Ave\, Grand Rapids\, MI 49507 We are located right on Burton Ave and S Division Ave\, directly across from Robbin's Locks and behind the silver line bus stop. We are sandwiched in between a cell phone store and large glass window front. Our logo is on the door and you can follow the stairs up to be greeted. Metered parking is available behind the building in the Burton Lot or in front of Robbin's Locks.
UID:e.2018.1098
SEQUENCE:3
DTSTAMP:20260420T050421Z
URL:https://members.westmihcc.org/events/details/ambassador-informational-meeting-04-11-2019-1098
END:VEVENT

END:VCALENDAR
