BEGIN:VCALENDAR
VERSION:2.0
PRODID:-//ChamberMaster//Event Calendar 2.0//EN
METHOD:PUBLISH
X-PUBLISHED-TTL:P3D
REFRESH-INTERVAL:P3D
CALSCALE:GREGORIAN
BEGIN:VEVENT
DTSTART:20190802T230000Z
DTEND:20190803T030000Z
X-MICROSOFT-CDO-ALLDAYEVENT:FALSE
SUMMARY:An Evening of Movement & Music feat. Take Root
DESCRIPTION:Known for their intricate partnering\, thought-provoking details\, and unrestricted vision\, Detroit-based professional modern dance company Take Root makes their return to The Cube with a unique program featuring live music and the premiere of two new works. TICKETS: $49 - VIP Experience Includes admission\, reserved cabaret seat\, and 1 FREE Drink $15 - General Admission $40 - General Admission Family 4 Pack
X-ALT-DESC;FMTTYPE=text/html:Known for their intricate partnering\, thought-provoking details\, and unrestricted vision\, Detroit-based professional modern dance company Take Root makes their return to The Cube with a unique program featuring live music and the premiere of two new works. TICKETS: $49 - VIP Experience Includes admission\, reserved cabaret seat\, and 1 FREE Drink $15 - General Admission $40 - General Admission Family 4 Pack
LOCATION:The Cube 3711 Woodward Avenue Detroit\, Mi 48201
UID:e.2018.1272
SEQUENCE:3
DTSTAMP:20260419T225805Z
URL:https://members.westmihcc.org/events/details/an-evening-of-movement-music-feat-take-root-1272
END:VEVENT

END:VCALENDAR
