BEGIN:VCALENDAR
VERSION:2.0
PRODID:-//ChamberMaster//Event Calendar 2.0//EN
METHOD:PUBLISH
X-PUBLISHED-TTL:P3D
REFRESH-INTERVAL:P3D
CALSCALE:GREGORIAN
BEGIN:VEVENT
DTSTART:20190523T233000Z
DTEND:20190524T020000Z
X-MICROSOFT-CDO-ALLDAYEVENT:FALSE
SUMMARY:An Evening with Neil deGrasse Tyson
DESCRIPTION:Join us for An Evening with Neil deGrasse Tyson at DeVos Performance Hall on Thursday\, May 23rd at 7:30PM. Dr. Neil deGrasse Tyson\, award winning astrophysicist\, author and host of FOX's Cosmos and podcast/National Geographic Channel television series StarTalk\, is the recipient of twenty honorary doctorates and the NASA Distinguished Public Service Medal\, the highest award given by NASA to a non-government citizen. His contributions to the public appreciation of the cosmos have been recognized by the International Astronomical Union in their official naming of asteroid "13123 Tyson." On the lighter side\, Tyson was voted "Sexiest Astrophysicist Alive" by People Magazine in 2000. Join Dr. Tyson for an evening of engaging conversation on science\, exploration and the world as we know it. VIP includes a meet & greet and premium seat location.
X-ALT-DESC;FMTTYPE=text/html:Join us for An Evening with Neil deGrasse Tyson at DeVos Performance Hall on Thursday\, May 23rd at 7:30PM. Dr. Neil deGrasse Tyson\, award winning astrophysicist\, author and host of FOX&rsquo\;s Cosmos and podcast/National Geographic Channel television series StarTalk\, is the recipient of twenty honorary doctorates and the NASA Distinguished Public Service Medal\, the highest award given by NASA to a non-government citizen. His contributions to the public appreciation of the cosmos have been recognized by the International Astronomical Union in their official naming of asteroid &ldquo\;13123 Tyson.&rdquo\; On the lighter side\, Tyson was voted &ldquo\;Sexiest Astrophysicist Alive&rdquo\; by People Magazine in 2000. Join Dr. Tyson for an evening of engaging conversation on science\, exploration and the world as we know it. VIP includes a meet &amp\; greet and premium seat location.
LOCATION:DeVos Performance Hall
UID:e.2018.1004
SEQUENCE:3
DTSTAMP:20260420T050230Z
URL:https://members.westmihcc.org/events/details/an-evening-with-neil-degrasse-tyson-1004
END:VEVENT

END:VCALENDAR
