BEGIN:VCALENDAR
VERSION:2.0
PRODID:-//ChamberMaster//Event Calendar 2.0//EN
METHOD:PUBLISH
X-PUBLISHED-TTL:P3D
REFRESH-INTERVAL:P3D
CALSCALE:GREGORIAN
BEGIN:VEVENT
DTSTART:20161020T213000Z
DTEND:20161021T003000Z
X-MICROSOFT-CDO-ALLDAYEVENT:FALSE
SUMMARY:Annual César E. Chávez Hispanic Excellence Awards & Scholarship Gala
DESCRIPTION:This year is the 12th Annual Cesar E. Chavez Hispanic Excellence Scholarship and Community Awards Gala. This event honors late hispanic leaders and raises scholarship funds for students in the Grand Rapids area.
X-ALT-DESC;FMTTYPE=text/html:This year is the 12th Annual Cesar E. Chavez Hispanic Excellence Scholarship and Community Awards Gala. This event honors late hispanic leaders and raises scholarship funds for students in the Grand Rapids area.
LOCATION:Please join us in The Eberhard Center located on Grand Valley State Universities campus on October 20th.
UID:e.2018.494
SEQUENCE:3
DTSTAMP:20260425T225305Z
URL:https://members.westmihcc.org/events/details/annual-c&#233;sar-e-ch&#225;vez-hispanic-excellence-awards-scholarship-gala-494
END:VEVENT

END:VCALENDAR
