BEGIN:VCALENDAR
VERSION:2.0
PRODID:-//ChamberMaster//Event Calendar 2.0//EN
METHOD:PUBLISH
X-PUBLISHED-TTL:P3D
REFRESH-INTERVAL:P3D
CALSCALE:GREGORIAN
BEGIN:VEVENT
DTSTART:20181101T210000Z
DTEND:20181102T000000Z
X-MICROSOFT-CDO-ALLDAYEVENT:FALSE
SUMMARY:APACC Salute to Excellence Awards 2018
DESCRIPTION:For more than ten years\, APACC has encouraged and celebrated the highest standards in economic advancement through our Salute to Excellence Awards.  This celebration is held every other year and recognizes the outstanding achievements and contributions of Asian American businesses\, Asian business professionals throughout the Midwest along with in-bounding Asian companies investing in the local economy.
X-ALT-DESC;FMTTYPE=text/html:For more than ten years\, APACC has encouraged and celebrated the highest standards in economic advancement through our Salute to Excellence Awards.&nbsp\; This celebration is held every other year and recognizes the outstanding achievements and contributions of Asian American businesses\, Asian business professionals throughout the Midwest along with in-bounding Asian companies investing in the local economy.
LOCATION:General Motors Heritage Center 6400 Center Dr Sterling Heights\, MI 48312
UID:e.2018.916
SEQUENCE:3
DTSTAMP:20260422T110949Z
URL:https://members.westmihcc.org/events/details/apacc-salute-to-excellence-awards-2018-916
END:VEVENT

END:VCALENDAR
