BEGIN:VCALENDAR
VERSION:2.0
PRODID:-//ChamberMaster//Event Calendar 2.0//EN
METHOD:PUBLISH
X-PUBLISHED-TTL:P3D
REFRESH-INTERVAL:P3D
CALSCALE:GREGORIAN
BEGIN:VEVENT
DTSTART:20191010T233000Z
DTEND:20191011T013000Z
X-MICROSOFT-CDO-ALLDAYEVENT:FALSE
SUMMARY:Arte Poesia Musica
DESCRIPTION:Come experience Arte Poesia Musica\, a unique celebration of local Latinx artists through song\, dance\, and visual art in Opera Grand Rapids' Opera Unlimited Series. Begin this multi-sensory evening at the Betty Van Andel Opera Center by exploring an art display from local Grand Rapids artists who will be on-hand to answer questions and share more insight about their work and lives. Then be transported by Afro-Caribbean traditional drumming and dancing (Afro Gaga) alongside Opera Grand Rapids' Emerging artists performing traditional Spanish language songs\, Zarzuela\, and culturally significant opera selections in a collaborative performance unlike any other. Join us for this eclectic evening that showcases artistic diversity and demonstrates the shared human condition through art\, poetry\, and music.
X-ALT-DESC;FMTTYPE=text/html:Come experience Arte Poesia Musica\, a unique celebration of local Latinx artists through song\, dance\, and visual art in Opera Grand Rapids&rsquo\; Opera Unlimited Series. Begin this multi-sensory evening at the Betty Van Andel Opera Center by exploring an art display from local Grand Rapids artists who will be on-hand to answer questions and share more insight about their work and lives. Then be transported by Afro-Caribbean traditional drumming and dancing (Afro Gaga) alongside Opera Grand Rapids&rsquo\; Emerging artists performing traditional Spanish language songs\, Zarzuela\, and culturally significant opera selections in a collaborative performance unlike any other. Join us for this eclectic evening that showcases artistic diversity and demonstrates the shared human condition through art\, poetry\, and music.
LOCATION:Betty Van Andel Opera Center 1320 East Fulton Street Grand Rapids\, MI 49503
UID:e.2018.1329
SEQUENCE:3
DTSTAMP:20260419T201105Z
URL:https://members.westmihcc.org/events/details/arte-poesia-musica-1329
END:VEVENT

END:VCALENDAR
