BEGIN:VCALENDAR
VERSION:2.0
PRODID:-//ChamberMaster//Event Calendar 2.0//EN
METHOD:PUBLISH
X-PUBLISHED-TTL:P3D
REFRESH-INTERVAL:P3D
CALSCALE:GREGORIAN
BEGIN:VEVENT
DTSTART:20190604T130000Z
DTEND:20190604T200000Z
X-MICROSOFT-CDO-ALLDAYEVENT:FALSE
SUMMARY:Be Well Fabulous Black Woman Tour
DESCRIPTION:
X-ALT-DESC;FMTTYPE=text/html:
LOCATION:Crowne Plaza Grand Rapids Airport 5700 28th Street Southeast Grand Rapids\, MI 49546
UID:e.2018.1224
SEQUENCE:3
DTSTAMP:20260420T033200Z
URL:https://members.westmihcc.org/events/details/be-well-fabulous-black-woman-tour-1224
END:VEVENT

END:VCALENDAR
