BEGIN:VCALENDAR
VERSION:2.0
PRODID:-//ChamberMaster//Event Calendar 2.0//EN
METHOD:PUBLISH
X-PUBLISHED-TTL:P3D
REFRESH-INTERVAL:P3D
CALSCALE:GREGORIAN
BEGIN:VEVENT
DTSTART:20180728T220000Z
DTEND:20180729T000000Z
X-MICROSOFT-CDO-ALLDAYEVENT:FALSE
SUMMARY:Best Laid Plans
DESCRIPTION:The Experts in Mystery Entertainment are now performing live public and private interactive murder mystery dinner shows in Grand Rapids and surrounding areas throughout Michigan. Join us for a night of intrigue\, deception\, and delicious food in this comedic thriller! Bring friends or family\, discover clues while trading them with other guests\, and solve the mystery before the dinner is finished. -Venue is handicap accessible
X-ALT-DESC;FMTTYPE=text/html:The Experts in Mystery Entertainment are now performing live public and private interactive murder mystery dinner shows in Grand Rapids and surrounding areas throughout Michigan. Join us for a night of intrigue\, deception\, and delicious food in this comedic thriller! Bring friends or family\, discover clues while trading them with other guests\, and solve the mystery before the dinner is finished. -Venue is handicap accessible
LOCATION:Pietro's 2780 Birchcrest Dr SE\, Grand Rapids\, MI 49506
UID:e.2018.853
SEQUENCE:3
DTSTAMP:20260422T155804Z
URL:https://members.westmihcc.org/events/details/best-laid-plans-853
END:VEVENT

END:VCALENDAR
