BEGIN:VCALENDAR
VERSION:2.0
PRODID:-//ChamberMaster//Event Calendar 2.0//EN
METHOD:PUBLISH
X-PUBLISHED-TTL:P3D
REFRESH-INTERVAL:P3D
CALSCALE:GREGORIAN
BEGIN:VEVENT
DTSTART:20170424T130000Z
DTEND:20170424T150000Z
X-MICROSOFT-CDO-ALLDAYEVENT:FALSE
SUMMARY:Bid Targeting System
DESCRIPTION:Attend this workshop to access the updated Bid Targeting System\, which helps you prioritize your government bids\, find opportunities which are a good fit for your business\, and pursue targeted opportunities. Learn how the Bid Targeting System reduces barriers to entry into government contracts by providing your personalized Firm Readiness Score\, then matching and prioritizing the best bid opportunities for you. Join us for an overview of the updated Bid Targeting System\, a hands-on walkthrough of registration and bid searching\, and an opportunity to engage with approved proposal-writing firms to assist with your bids. The Bid Targeting System is available at no cost for Michigan businesses in 2017 through a grant by the MEDC's Michigan Defense Center. No cost To register\, go online at https://clients.sbdcmichigan.org/workshop.aspx?ekey=70370065 or call SBDC West Michigan at (616) 331-7370.
X-ALT-DESC;FMTTYPE=text/html:Attend this workshop to access the updated Bid Targeting System\, which helps you prioritize your government bids\, find opportunities which are a good fit for your business\, and pursue targeted opportunities. Learn how the Bid Targeting System reduces barriers to entry into government contracts by providing your personalized Firm Readiness Score\, then matching and prioritizing the best bid opportunities for you. Join us for an overview of the updated Bid Targeting System\, a hands-on walkthrough of registration and bid searching\, and an opportunity to engage with approved proposal-writing firms to assist with your bids. The Bid Targeting System is available at no cost for Michigan businesses in 2017 through a grant by the MEDC&rsquo\;s Michigan Defense Center. No cost To register\, go online at https://clients.sbdcmichigan.org/workshop.aspx?ekey=70370065 or call SBDC West Michigan at (616) 331-7370.
LOCATION:L. William Seidman Center Forum B 50 Front Ave Grand Rapids\, MI 49504
UID:e.2018.585
SEQUENCE:3
DTSTAMP:20260425T131423Z
URL:https://members.westmihcc.org/events/details/bid-targeting-system-585
END:VEVENT

END:VCALENDAR
