BEGIN:VCALENDAR
VERSION:2.0
PRODID:-//ChamberMaster//Event Calendar 2.0//EN
METHOD:PUBLISH
X-PUBLISHED-TTL:P3D
REFRESH-INTERVAL:P3D
CALSCALE:GREGORIAN
BEGIN:VEVENT
DTSTART;VALUE=DATE:20190614
DTEND;VALUE=DATE:20190617
TRANSP:TRANSPARENT
X-MICROSOFT-CDO-ALLDAYEVENT:TRUE
SUMMARY:Big Bounce America
DESCRIPTION:Big Bounce America will be held at DeltaPlex Arena (2500 Turner Avenue in Grand Rapids) and will offer zones with themes and activity-based entertainment. For instance\, guests can enjoy basketball hoops\, an inflatable obstacle race\, and a giant slide. In addition\, Big Bounce America will feature an inflatable forest\, huge inflatable jungle animals\, trucks\, boats\, and much\, much more.
X-ALT-DESC;FMTTYPE=text/html:Big Bounce America will be held at DeltaPlex Arena (2500 Turner Avenue in Grand Rapids) and will offer zones with themes and activity-based entertainment. For instance\, guests can enjoy basketball hoops\, an inflatable obstacle race\, and a giant slide. In addition\, Big Bounce America will feature an inflatable forest\, huge inflatable jungle animals\, trucks\, boats\, and much\, much more.
LOCATION:The DeltaPlex Arena
UID:e.2018.1203
SEQUENCE:3
DTSTAMP:20260420T015633Z
URL:https://members.westmihcc.org/events/details/big-bounce-america-1203
END:VEVENT

END:VCALENDAR
