BEGIN:VCALENDAR
VERSION:2.0
PRODID:-//ChamberMaster//Event Calendar 2.0//EN
METHOD:PUBLISH
X-PUBLISHED-TTL:P3D
REFRESH-INTERVAL:P3D
CALSCALE:GREGORIAN
BEGIN:VEVENT
DTSTART:20160831T230000Z
DTEND:20160901T010000Z
X-MICROSOFT-CDO-ALLDAYEVENT:FALSE
SUMMARY:Blink-182
DESCRIPTION:Blink-182\, the punk pop favorites of a generation\, are back with their highly anticipated seventh studio album\, California\, set for release July 1\, 2016 on BMG. The band premiered their brand new single\, "Bored To Death\," on the world famous KROQ radio station in Los Angeles yesterday where they also revealed details behind their massive North American summer tour. The tour\, promoted by Live Nation\, will kick off on Friday\, July 22 in San Diego\, Cali. at the Viejas Arena and take the band to nearly 50 cities throughout the U.S. and Canada including a stop in Grand Rapids at Van Andel Arena on Wednesday\, August 31\, 2016 at 7:00 PM. A Day to Remember and All Time Low will join them in Grand Rapids.
X-ALT-DESC;FMTTYPE=text/html:Blink-182\, the punk pop favorites of a generation\, are back with their highly anticipated seventh studio album\, California\, set for release July 1\, 2016 on BMG. The band premiered their brand new single\, &quot\;Bored To Death\,&quot\; on the world famous KROQ radio station in Los Angeles yesterday where they also revealed details behind their massive North American summer tour. The tour\, promoted by Live Nation\, will kick off on Friday\, July 22 in San Diego\, Cali. at the Viejas Arena and take the band to nearly 50 cities throughout the U.S. and Canada including a stop in Grand Rapids at Van Andel Arena on Wednesday\, August 31\, 2016 at 7:00 PM. A Day to Remember and All Time Low will join them in Grand Rapids.
LOCATION:130 Fulton W\, Grand Rapids\, MI 49503
UID:e.2018.386
SEQUENCE:3
DTSTAMP:20260425T235637Z
URL:https://members.westmihcc.org/events/details/blink-182-08-31-2016-386
END:VEVENT

END:VCALENDAR
