BEGIN:VCALENDAR
VERSION:2.0
PRODID:-//ChamberMaster//Event Calendar 2.0//EN
METHOD:PUBLISH
X-PUBLISHED-TTL:P3D
REFRESH-INTERVAL:P3D
CALSCALE:GREGORIAN
BEGIN:VEVENT
DTSTART:20171028T233000Z
DTEND:20171029T023000Z
X-MICROSOFT-CDO-ALLDAYEVENT:FALSE
SUMMARY:Bob Dylan
DESCRIPTION:Bob Dylan featuring Mavis Staples Saturday\, October 28\, 2017\, 7:30pm at Van Andel Arena. Ticket prices: $125\, $85\, $55\, prices subject to change. Tickets on sale starting Friday\, September 15\, 2017 at 11am.
X-ALT-DESC;FMTTYPE=text/html:Bob Dylan featuring Mavis Staples Saturday\, October 28\, 2017\, 7:30pm at Van Andel Arena. Ticket prices: $125\, $85\, $55\, prices subject to change. Tickets on sale starting Friday\, September 15\, 2017 at 11am.
LOCATION:Van Andel Arena
UID:e.2018.666
SEQUENCE:3
DTSTAMP:20260423T063005Z
URL:https://members.westmihcc.org/events/details/bob-dylan-666
END:VEVENT

END:VCALENDAR
