BEGIN:VCALENDAR
VERSION:2.0
PRODID:-//ChamberMaster//Event Calendar 2.0//EN
METHOD:PUBLISH
X-PUBLISHED-TTL:P3D
REFRESH-INTERVAL:P3D
CALSCALE:GREGORIAN
BEGIN:VEVENT
DTSTART:20181122T003000Z
DTEND:20181122T030000Z
X-MICROSOFT-CDO-ALLDAYEVENT:FALSE
SUMMARY:Bob Seger & The Silver Bullet Band
DESCRIPTION:After a career that has spanned mroe than 50 years\, Bob Seger & The Silver Bullet Band will hit the road for one last time on their final tour. The Travelin' Man tour kicks off on November 21st at Van Andel Arena in Grand Rapids. Tickets go on sale on Friday\, September 28th at 10:00AM.
X-ALT-DESC;FMTTYPE=text/html:After a career that has spanned mroe than 50 years\, Bob Seger &amp\; The Silver Bullet Band will hit the road for one last time on their final tour. The Travelin&#39\; Man tour kicks off on November 21st at Van Andel Arena in Grand Rapids. Tickets go on sale on Friday\, September 28th at 10:00AM.
LOCATION:Van Andel Arena
UID:e.2018.966
SEQUENCE:3
DTSTAMP:20260422T110708Z
URL:https://members.westmihcc.org/events/details/bob-seger-the-silver-bullet-band-966
END:VEVENT

END:VCALENDAR
