BEGIN:VCALENDAR
VERSION:2.0
PRODID:-//ChamberMaster//Event Calendar 2.0//EN
METHOD:PUBLISH
X-PUBLISHED-TTL:P3D
REFRESH-INTERVAL:P3D
CALSCALE:GREGORIAN
BEGIN:VEVENT
DTSTART:20190106T010000Z
DTEND:20190106T030000Z
X-MICROSOFT-CDO-ALLDAYEVENT:FALSE
SUMMARY:Bob Seger & The Silver Bullet Band Returns
DESCRIPTION:After a career that has spanned more than 50 years\, Bob Seger & The Silver Bullet Band will hit the road for one last time on their final tour. The Travelin' Man tour kicks off on November 21st at Van Andel Arena in Grand Rapids and a second show date has been added on January 5\, 2019. Tickets for the second show go on sale Friday\, October 5\, 2018 at 10:00AM. Ticket prices are subject to change. For current ticket prices\, visit Ticketmaster.com.
X-ALT-DESC;FMTTYPE=text/html:After a career that has spanned more than 50 years\, Bob Seger &amp\; The Silver Bullet Band will hit the road for one last time on their final tour. The Travelin&#39\; Man tour kicks off on November 21st at Van Andel Arena in Grand Rapids and a second show date has been added on January 5\, 2019. Tickets for the second show go on sale Friday\, October 5\, 2018 at 10:00AM. Ticket prices are subject to change. For current ticket prices\, visit Ticketmaster.com.
LOCATION:Van Andel Arena
UID:e.2018.975
SEQUENCE:3
DTSTAMP:20260422T081815Z
URL:https://members.westmihcc.org/events/details/bob-seger-the-silver-bullet-band-returns-975
END:VEVENT

END:VCALENDAR
