BEGIN:VCALENDAR
VERSION:2.0
PRODID:-//ChamberMaster//Event Calendar 2.0//EN
METHOD:PUBLISH
X-PUBLISHED-TTL:P3D
REFRESH-INTERVAL:P3D
CALSCALE:GREGORIAN
BEGIN:VEVENT
DTSTART:20180407T230000Z
DTEND:20180408T030000Z
X-MICROSOFT-CDO-ALLDAYEVENT:FALSE
SUMMARY:Brad Paisley: Featuring Dustin Lynch\, Chase Bryant\, and Lindsay Ell
DESCRIPTION:Country music superstar Brad Paisley has announced the continuation of his highly successful Weekend Warrior World Tour with dates added in 2018. The anticipated tour will make a stop at the Van Andel Arena. Featured guests will be Broken Bow Records Platinum-selling artist Dustin Lynch\, RED BOW Records hit-maker Chase Bryant and fast-rising star and multi-instrumentalist Lindsay Ell. Brad Paisley is a consummate singer\, songwriter\, guitarist and entertainer whose talents have earned him numerous awards\, including three GRAMMYs\, two American Music Awards\, 14 Academy of Country Music Awards and 14 Country Music Association Awards (including Entertainer of the Year)\, among many others. He has been a proud member of the Grand Ole Opry since 2001. Paisley has written 21 of his 24 #1 hits including his most recent smash\, "Today." The song resonated with fans around the globe with the music video garnering over 43 million views\, so far. "Heaven South" is his current single from his 11th studio album\, LOVE AND WAR\, which was released April 21. Tickets may be purchased at the Van Andel Arena  and DeVos Place  convention center box offices\, charge by phone: 1.800.745.3000 or on-line at Ticketmaster.com Ticket prices are subject to change.
X-ALT-DESC;FMTTYPE=text/html:Country music superstar Brad Paisley has announced the continuation of his highly successful Weekend Warrior World Tour with dates added in 2018. The anticipated tour will make a stop at the Van Andel Arena. Featured guests will be Broken Bow Records Platinum-selling artist Dustin Lynch\, RED BOW Records hit-maker Chase Bryant and fast-rising star and multi-instrumentalist Lindsay Ell. Brad Paisley is a consummate singer\, songwriter\, guitarist and entertainer whose talents have earned him numerous awards\, including three GRAMMYs\, two American Music Awards\, 14 Academy of Country Music Awards and 14 Country Music Association Awards (including Entertainer of the Year)\, among many others. He has been a proud member of the Grand Ole Opry since 2001. Paisley has written 21 of his 24 #1 hits including his most recent smash\, &ldquo\;Today.&rdquo\; The song resonated with fans around the globe with the music video garnering over 43 million views\, so far. &ldquo\;Heaven South&rdquo\; is his current single from his 11th studio album\, LOVE AND WAR\, which was released April 21. Tickets may be purchased at the Van Andel Arena&reg\; and DeVos Place&reg\; convention center box offices\, charge by phone: 1.800.745.3000 or on-line at Ticketmaster.com Ticket prices are subject to change.
LOCATION:Van Andel Arena
UID:e.2018.748
SEQUENCE:3
DTSTAMP:20260422T213958Z
URL:https://members.westmihcc.org/events/details/brad-paisley-featuring-dustin-lynch-chase-bryant-and-lindsay-ell-748
END:VEVENT

END:VCALENDAR
