BEGIN:VCALENDAR
VERSION:2.0
PRODID:-//ChamberMaster//Event Calendar 2.0//EN
METHOD:PUBLISH
X-PUBLISHED-TTL:P3D
REFRESH-INTERVAL:P3D
CALSCALE:GREGORIAN
BEGIN:VEVENT
DTSTART:20180511T230000Z
DTEND:20180512T020000Z
X-MICROSOFT-CDO-ALLDAYEVENT:FALSE
SUMMARY:Brantley Gilbert: Featuring Aaron Lewis and Josh Phillips
DESCRIPTION:Brantley Gilbert The Ones That Like Me featuring Aaron Lewis and Josh Phillips comes to Van Andel Arena on Friday\, May 11th\, 2018. "THE ONES THAT LIKE ME" tour is for the fans that come year in and year out - the hardcore\, the lifers\, the BG Nation. Coming off the most successful tour of his career this past summer\, Brantley was blown away by the love and support he received and returned home determined to thank his fans the only way he knows how...with a new tour that's just for them. From merchandise and set lists that fans will help create to so much more\, this tour will have something for everyone and is Brantley's way of saying to all of his fans\, "This one's for you." Tickets go on sale on Friday\, December 1st at 10AM.
X-ALT-DESC;FMTTYPE=text/html:Brantley Gilbert The Ones That Like Me featuring Aaron Lewis and Josh Phillips comes to Van Andel Arena on Friday\, May 11th\, 2018. &quot\;THE ONES THAT LIKE ME&quot\; tour is for the fans that come year in and year out - the hardcore\, the lifers\, the BG Nation. Coming off the most successful tour of his career this past summer\, Brantley was blown away by the love and support he received and returned home determined to thank his fans the only way he knows how...with a new tour that&#39\;s just for them. From merchandise and set lists that fans will help create to so much more\, this tour will have something for everyone and is Brantley&#39\;s way of saying to all of his fans\, &quot\;This one&#39\;s for you.&quot\; Tickets go on sale on Friday\, December 1st at 10AM.
LOCATION:Van Andel Arena
UID:e.2018.694
SEQUENCE:3
DTSTAMP:20260422T200028Z
URL:https://members.westmihcc.org/events/details/brantley-gilbert-featuring-aaron-lewis-and-josh-phillips-694
END:VEVENT

END:VCALENDAR
