BEGIN:VCALENDAR
VERSION:2.0
PRODID:-//ChamberMaster//Event Calendar 2.0//EN
METHOD:PUBLISH
X-PUBLISHED-TTL:P3D
REFRESH-INTERVAL:P3D
CALSCALE:GREGORIAN
BEGIN:VEVENT
DTSTART:20181121T010000Z
DTEND:20181121T030000Z
X-MICROSOFT-CDO-ALLDAYEVENT:FALSE
SUMMARY:Brian Wilson: Greatest Hits Live!
DESCRIPTION:Co-founder of The Beach Boys\, Brian Wilson\, one of the most respected singer/songwriters of all time\, brings his Greatest Hits Live! Tour to Grand Rapids. Joining him will be special guests Al Jardine and Blondie Chaplin.
X-ALT-DESC;FMTTYPE=text/html:Co-founder of The Beach Boys\, Brian Wilson\, one of the most respected singer/songwriters of all time\, brings his Greatest Hits Live! Tour to Grand Rapids. Joining him will be special guests Al Jardine and Blondie Chaplin.
LOCATION:DeVos Performance Hall
UID:e.2018.866
SEQUENCE:3
DTSTAMP:20260422T110610Z
URL:https://members.westmihcc.org/events/details/brian-wilson-greatest-hits-live-866
END:VEVENT

END:VCALENDAR
