BEGIN:VCALENDAR
VERSION:2.0
PRODID:-//ChamberMaster//Event Calendar 2.0//EN
METHOD:PUBLISH
X-PUBLISHED-TTL:P3D
REFRESH-INTERVAL:P3D
CALSCALE:GREGORIAN
BEGIN:VEVENT
DTSTART:20190414T233000Z
DTEND:20190415T020000Z
X-MICROSOFT-CDO-ALLDAYEVENT:FALSE
SUMMARY:Brit Floyd
DESCRIPTION:Brit Floyd\, the world's greatest Pink Floyd tribute show\, returns to the stage in 2019 with its most ambitious and best production yet\, a very special 40th Anniversary retrospective of Pink Floyd's iconic rock opera\, 'The Wall'. Released in November 1979\, a semi-autobiographical concept album from the mind of Pink Floyd founding member Roger Waters\, The Wall remains one of the biggest selling albums of all time\, and an important moment in Rock music history. As well as performing a host of musical highlights from The Wall\, Brit Floyd will perform classic gems from The Dark Side of the Moon\, Wish You Were Here\, Animals and The Division Bell plus lots more. Coming to DeVos Performance Hall on April 14\, 2019 at 7:30PM.
X-ALT-DESC;FMTTYPE=text/html:Brit Floyd\, the world&rsquo\;s greatest Pink Floyd tribute show\, returns to the stage in 2019 with its most ambitious and best production yet\, a very special 40th Anniversary retrospective of Pink Floyd&rsquo\;s iconic rock opera\, &lsquo\;The Wall&rsquo\;. Released in November 1979\, a semi-autobiographical concept album from the mind of Pink Floyd founding member Roger Waters\, The Wall remains one of the biggest selling albums of all time\, and an important moment in Rock music history. As well as performing a host of musical highlights from The Wall\, Brit Floyd will perform classic gems from The Dark Side of the Moon\, Wish You Were Here\, Animals and The Division Bell plus lots more. Coming to DeVos Performance Hall on April 14\, 2019 at 7:30PM.
LOCATION:DeVos Performance Hall
UID:e.2018.1009
SEQUENCE:3
DTSTAMP:20260420T045849Z
URL:https://members.westmihcc.org/events/details/brit-floyd-1009
END:VEVENT

END:VCALENDAR
