BEGIN:VCALENDAR
VERSION:2.0
PRODID:-//ChamberMaster//Event Calendar 2.0//EN
METHOD:PUBLISH
X-PUBLISHED-TTL:P3D
REFRESH-INTERVAL:P3D
CALSCALE:GREGORIAN
BEGIN:VEVENT
DTSTART:20170321T150000Z
DTEND:20170321T160000Z
X-MICROSOFT-CDO-ALLDAYEVENT:FALSE
SUMMARY:Building Your Online Marketing Strategy
DESCRIPTION:Learn how to build a smart\, strategic online marketing strategy for your business. We will look at how to use social media\, blogs\, and newsletters to attract your audience\, warm leads\, convert leads to customers\, and retain them over time. This webinar is designed for people who are currently - or interested in - using social media or other methods of online marketing and are trying to navigate the best way to be efficient and effective with these tools. No cost. To register\, please go to https://clients.sbdcmichigan.org/workshop.aspx?ekey=1370004 or call our office at 616-331-7370.
X-ALT-DESC;FMTTYPE=text/html:Learn how to build a smart\, strategic online marketing strategy for your business. We will look at how to use social media\, blogs\, and newsletters to attract your audience\, warm leads\, convert leads to customers\, and retain them over time. This webinar is designed for people who are currently - or interested in - using social media or other methods of online marketing and are trying to navigate the best way to be efficient and effective with these tools. No cost. To register\, please go to https://clients.sbdcmichigan.org/workshop.aspx?ekey=1370004 or call our office at 616-331-7370.
LOCATION:Online (webinar)
UID:e.2018.546
SEQUENCE:3
DTSTAMP:20260425T144312Z
URL:https://members.westmihcc.org/events/details/building-your-online-marketing-strategy-546
END:VEVENT

END:VCALENDAR
