BEGIN:VCALENDAR
VERSION:2.0
PRODID:-//ChamberMaster//Event Calendar 2.0//EN
METHOD:PUBLISH
X-PUBLISHED-TTL:P3D
REFRESH-INTERVAL:P3D
CALSCALE:GREGORIAN
BEGIN:VEVENT
DTSTART:20180417T120000Z
DTEND:20180417T140000Z
X-MICROSOFT-CDO-ALLDAYEVENT:FALSE
SUMMARY:Business Legal Issues
DESCRIPTION:This course is designed to guide prospective business owners in setting up the organizational structure that will help protect them from unnecessary legal challenges. Tax and liability issues are covered\, along with basic elements of a contract\, collections\, licenses\, registrations\, employment and property issues\, leasing and insurance.
X-ALT-DESC;FMTTYPE=text/html:This course is designed to guide prospective business owners in setting up the organizational structure that will help protect them from unnecessary legal challenges. Tax and liability issues are covered\, along with basic elements of a contract\, collections\, licenses\, registrations\, employment and property issues\, leasing and insurance.
LOCATION:Muskegon Innovation Hub 200 Viridian Dr. Muskegon\, MI 49440
UID:e.2018.708
SEQUENCE:3
DTSTAMP:20260422T213600Z
URL:https://members.westmihcc.org/events/details/business-legal-issues-04-17-2018-708
END:VEVENT

END:VCALENDAR
