BEGIN:VCALENDAR
VERSION:2.0
PRODID:-//ChamberMaster//Event Calendar 2.0//EN
METHOD:PUBLISH
X-PUBLISHED-TTL:P3D
REFRESH-INTERVAL:P3D
CALSCALE:GREGORIAN
BEGIN:VEVENT
DTSTART:20161102T220000Z
DTEND:20161103T000000Z
X-MICROSOFT-CDO-ALLDAYEVENT:FALSE
SUMMARY:Business Legal Issues
DESCRIPTION:This course is an introduction to the different types of legal entities that are appropriate for structuring and starting a new business. Tax and liability issues are covered\, along with basic elements of a contract\, collections\, licenses\, registrations\, employment and property issues\, leasing and insurance. It is designed to guide prospective business owners in setting up the organizational structure that will help protect them from unnecessary legal challenges. No cost. Presented by SBDC West Michigan. To register\, go online at https://clients.sbdcmichigan.org/workshop.aspx?ekey=72360006 or call SBDC West Michigan at (616)331-7370.
X-ALT-DESC;FMTTYPE=text/html:This course is an introduction to the different types of legal entities that are appropriate for structuring and starting a new business. Tax and liability issues are covered\, along with basic elements of a contract\, collections\, licenses\, registrations\, employment and property issues\, leasing and insurance. It is designed to guide prospective business owners in setting up the organizational structure that will help protect them from unnecessary legal challenges. No cost. Presented by SBDC West Michigan. To register\, go online at https://clients.sbdcmichigan.org/workshop.aspx?ekey=72360006 or call SBDC West Michigan at (616)331-7370.
LOCATION:Michigan Innovation Hub 200 Viridian Drive Muskegon\, MI 49440
UID:e.2018.444
SEQUENCE:3
DTSTAMP:20260425T200414Z
URL:https://members.westmihcc.org/events/details/business-legal-issues-11-02-2016-444
END:VEVENT

END:VCALENDAR
