BEGIN:VCALENDAR
VERSION:2.0
PRODID:-//ChamberMaster//Event Calendar 2.0//EN
METHOD:PUBLISH
X-PUBLISHED-TTL:P3D
REFRESH-INTERVAL:P3D
CALSCALE:GREGORIAN
BEGIN:VEVENT
DTSTART:20171114T230000Z
DTEND:20171115T010000Z
X-MICROSOFT-CDO-ALLDAYEVENT:FALSE
SUMMARY:Business Legal Issues
DESCRIPTION:This course is an introduction to the different types of legal entities that are appropriate for structuring and starting a new business. Tax and liability issues are covered\, along with basic elements of a contract\, collections\, licenses\, registrations\, employment and property issues\, leasing and insurance. It is designed to guide prospective business owners in setting up the organizational structure that will help protect them from unnecessary legal challenges. Presented by SBDC West Michigan and Curt Rypma of Schenk\, Boncher & Rypma\, P.C. No cost! To register\, please go to https://clients.sbdcmichigan.org/workshop.aspx?ekey=70370076 or call SBDC West Michigan at 616-331-7370.
X-ALT-DESC;FMTTYPE=text/html:This course is an introduction to the different types of legal entities that are appropriate for structuring and starting a new business. Tax and liability issues are covered\, along with basic elements of a contract\, collections\, licenses\, registrations\, employment and property issues\, leasing and insurance. It is designed to guide prospective business owners in setting up the organizational structure that will help protect them from unnecessary legal challenges. Presented by SBDC West Michigan and Curt Rypma of Schenk\, Boncher &amp\; Rypma\, P.C. No cost! To register\, please go to https://clients.sbdcmichigan.org/workshop.aspx?ekey=70370076 or call SBDC West Michigan at 616-331-7370.
LOCATION:GVSU L. William Seidman Center 50 Front Avenue SW Grand Rapids\, MI 49504
UID:e.2018.604
SEQUENCE:3
DTSTAMP:20260423T050849Z
URL:https://members.westmihcc.org/events/details/business-legal-issues-11-14-2017-604
END:VEVENT

END:VCALENDAR
