BEGIN:VCALENDAR
VERSION:2.0
PRODID:-//ChamberMaster//Event Calendar 2.0//EN
METHOD:PUBLISH
X-PUBLISHED-TTL:P3D
REFRESH-INTERVAL:P3D
CALSCALE:GREGORIAN
BEGIN:VEVENT
DTSTART:20160526T160000Z
DTEND:20160526T173000Z
X-MICROSOFT-CDO-ALLDAYEVENT:FALSE
SUMMARY:Business Pitch Competition 2016
DESCRIPTION:The West Michigan Hispanic Chamber of Commerce is excited to announce the first Business Pitch Competition taking place in May of 2016. \n\n \n\nApplications are now closed and the participants will present their pitch idea to a panel who will award cash prizes.
X-ALT-DESC;FMTTYPE=text/html:<div align="justify" style="color: rgb(0\, 0\, 0)\; font-family: Verdana\, Geneva\, Arial\, Helvetica\, sans-serif\; font-size: 16px\; line-height: normal\; text-align: justify\;"><span style="font-size:14px\;"><span style="color:#000000\;">The West Michigan Hispanic Chamber of Commerce is excited to announce the first Business Pitch Competition taking place in May of 2016.&nbsp\;</span></span></div>\n\n<div align="justify" style="color: rgb(0\, 0\, 0)\; font-family: Verdana\, Geneva\, Arial\, Helvetica\, sans-serif\; font-size: 16px\; line-height: normal\; text-align: justify\;">&nbsp\;</div>\n\n<div align="justify" style="color: rgb(0\, 0\, 0)\; font-family: Verdana\, Geneva\, Arial\, Helvetica\, sans-serif\; font-size: 16px\; line-height: normal\; text-align: justify\;"><span style="font-size:14px\;"><span style="color:#000000\;">Applications are now closed and the participants will present their pitch idea to a panel who will award cash prizes.&nbsp\;</span></span></div>\n
LOCATION:Rockford Construction 601 First Street NW Grand Rapids\, MI 49504
UID:e.2018.383
SEQUENCE:3
DTSTAMP:20260426T035446Z
URL:https://members.westmihcc.org/events/details/business-pitch-competition-2016-05-26-2016-383
END:VEVENT

END:VCALENDAR
