BEGIN:VCALENDAR
VERSION:2.0
PRODID:-//ChamberMaster//Event Calendar 2.0//EN
METHOD:PUBLISH
X-PUBLISHED-TTL:P3D
REFRESH-INTERVAL:P3D
CALSCALE:GREGORIAN
BEGIN:VEVENT
DTSTART:20160519T113000Z
DTEND:20160519T130000Z
X-MICROSOFT-CDO-ALLDAYEVENT:FALSE
SUMMARY:Café Con Leche Membership Meetings 2016
DESCRIPTION:One of the many benefits our membership offers is the monthly membership meetings in which members are able to meet the Hispanic Chamber staff\, Board of Directors and other members. The objective of membership meetings is to interact with our business community leaders\, exchange business cards and create new business opportunities to diversify their workforce\, supplier base\, and increase their involvement within the Hispanic Chamber network.\n\n\n\nNext Meeting:\n\nDate: Thursday\, May 19\, 2016\n\nTime: 7:30 a.m. to 9 :00 a.m.\n\nDavenport University\n\n643 S. Waverly Rd\, Holland\, MI 49423
X-ALT-DESC;FMTTYPE=text/html:<span style="font-size:12px\;"><span style="color:#000000\;"><span style="font-family:verdana\;">One of the many benefits our membership offers is the monthly membership meetings in which members are able to meet the Hispanic Chamber staff\, Board of Directors and other members. The objective of membership meetings is to interact with our business community leaders\, exchange business cards and create new business opportunities to diversify their workforce\, supplier base\, and increase their involvement within the Hispanic Chamber network.<br />\n<br />\n<strong>Next Meeting:</strong><br />\nDate: Thursday\, May 19\, 2016<br />\nTime: 7:30 a.m. to 9 :00 a.m.<br />\n<span style="line-height: 18.9091px\;">Davenport University</span><br />\n643 S. Waverly Rd\, Holland\, MI 49423</span></span></span><br style="color: rgb(0\, 0\, 0)\; font-family: verdana\; line-height: 18.9091px\;" />\n&nbsp\;
LOCATION:Location varies every month. If you're interested in hosting a Caf con Leche Membership Meeting\, contact the WMHCC at info@hccwm.org Location for May: Davenport University 643 S. Waverly Rd\, Holland\, MI 49423
UID:e.2018.339
SEQUENCE:3
DTSTAMP:20260426T035517Z
URL:https://members.westmihcc.org/events/details/caf&#233;-con-leche-membership-meetings-2016-05-19-2016-339
END:VEVENT

END:VCALENDAR
