BEGIN:VCALENDAR
VERSION:2.0
PRODID:-//ChamberMaster//Event Calendar 2.0//EN
METHOD:PUBLISH
X-PUBLISHED-TTL:P3D
REFRESH-INTERVAL:P3D
CALSCALE:GREGORIAN
BEGIN:VEVENT
DTSTART:20160721T113000Z
DTEND:20160721T130000Z
X-MICROSOFT-CDO-ALLDAYEVENT:FALSE
SUMMARY:Café Con Leche Membership Meetings 2016
DESCRIPTION:One of the many benefits our membership offers is the monthly membership meetings in which members are able to meet the Hispanic Chamber staff\, Board of Directors and other members. The objective of membership meetings is to interact with our business community leaders\, exchange business cards and create new business opportunities to diversify their workforce\, supplier base\, and increase their involvement within the Hispanic Chamber network.\n\n\n\nNext Meeting:\n\nDate: Thursday\, August 18\, 2016\n\nTime: 7:30 a.m. to 9 :00 a.m.\n\nLocation: Gordon Food Services
X-ALT-DESC;FMTTYPE=text/html:<span style="color: rgb(0\, 0\, 0)\; font-family: verdana\; font-size: 12px\; line-height: 15.6px\;">One of the many benefits our membership offers is the monthly membership meetings in which members are able to meet the Hispanic Chamber staff\, Board of Directors and other members. The objective of membership meetings is to interact with our business community leaders\, exchange business cards and create new business opportunities to diversify their workforce\, supplier base\, and increase their involvement within the Hispanic Chamber network.</span><br style="box-sizing: content-box\; bottom: auto\; clear: none\; color: rgb(0\, 0\, 0)\; content: normal\; direction: inherit\; display: inline\; empty-cells: show\; float: none\; font-stretch: inherit\; font-size: 12px\; font-family: verdana\; left: auto\; line-height: 15.6px\; margin: 0px\; max-height: none\; max-width: none\; min-height: initial\; min-width: initial\; opacity: 1\; outline: invert none medium\; outline-offset: 0px\; overflow: visible\; padding: 0px\; position: static\; resize: none\; right: auto\; table-layout: auto\; text-overflow: clip\; top: auto\; vertical-align: baseline\; visibility: inherit\; word-break: inherit\; word-wrap: inherit\; z-index: auto\; border: none\; border-collapse: separate\; border-image-source: none\; border-image-slice: 100% 1 0\; border-image-repeat: stretch\; border-radius: 0px\; height: auto\; width: auto\; background-image: none\; background-attachment: initial\; background-size: initial\; background-origin: initial\; background-clip: initial\; background-position: initial\; background-repeat: initial\;" />\n<br style="box-sizing: content-box\; bottom: auto\; clear: none\; color: rgb(0\, 0\, 0)\; content: normal\; direction: inherit\; display: inline\; empty-cells: show\; float: none\; font-stretch: inherit\; font-size: 12px\; font-family: verdana\; left: auto\; line-height: 15.6px\; margin: 0px\; max-height: none\; max-width: none\; min-height: initial\; min-width: initial\; opacity: 1\; outline: invert none medium\; outline-offset: 0px\; overflow: visible\; padding: 0px\; position: static\; resize: none\; right: auto\; table-layout: auto\; text-overflow: clip\; top: auto\; vertical-align: baseline\; visibility: inherit\; word-break: inherit\; word-wrap: inherit\; z-index: auto\; border: none\; border-collapse: separate\; border-image-source: none\; border-image-slice: 100% 1 0\; border-image-repeat: stretch\; border-radius: 0px\; height: auto\; width: auto\; background-image: none\; background-attachment: initial\; background-size: initial\; background-origin: initial\; background-clip: initial\; background-position: initial\; background-repeat: initial\;" />\n<span style="box-sizing: content-box\; font-weight: bolder\; bottom: auto\; clear: none\; color: rgb(0\, 0\, 0)\; content: normal\; direction: inherit\; empty-cells: show\; font-stretch: inherit\; font-size: 12px\; font-family: verdana\; left: auto\; line-height: 15.6px\; margin: 0px\; max-height: none\; max-width: none\; min-height: initial\; min-width: initial\; opacity: 1\; outline: invert none medium\; outline-offset: 0px\; overflow: visible\; padding: 0px\; position: static\; resize: none\; right: auto\; table-layout: auto\; text-overflow: clip\; top: auto\; vertical-align: baseline\; visibility: inherit\; word-break: inherit\; word-wrap: inherit\; z-index: auto\; border: none\; border-collapse: separate\; border-image-source: none\; border-image-slice: 100% 1 0\; border-image-repeat: stretch\; border-radius: 0px\; height: auto\; width: auto\; box-shadow: none\; background-image: none\; background-attachment: initial\; background-size: initial\; background-origin: initial\; background-clip: initial\; background-position: initial\; background-repeat: initial\;">Next Meeting:</span><br style="box-sizing: content-box\; bottom: auto\; clear: none\; color: rgb(0\, 0\, 0)\; content: normal\; direction: inherit\; display: inline\; empty-cells: show\; float: none\; font-stretch: inherit\; font-size: 12px\; font-family: verdana\; left: auto\; line-height: 15.6px\; margin: 0px\; max-height: none\; max-width: none\; min-height: initial\; min-width: initial\; opacity: 1\; outline: invert none medium\; outline-offset: 0px\; overflow: visible\; padding: 0px\; position: static\; resize: none\; right: auto\; table-layout: auto\; text-overflow: clip\; top: auto\; vertical-align: baseline\; visibility: inherit\; word-break: inherit\; word-wrap: inherit\; z-index: auto\; border: none\; border-collapse: separate\; border-image-source: none\; border-image-slice: 100% 1 0\; border-image-repeat: stretch\; border-radius: 0px\; height: auto\; width: auto\; background-image: none\; background-attachment: initial\; background-size: initial\; background-origin: initial\; background-clip: initial\; background-position: initial\; background-repeat: initial\;" />\n<span style="color: rgb(0\, 0\, 0)\; font-family: verdana\; font-size: 12px\; line-height: 15.6px\;">Date: Thursday\, August 18\, 2016</span><br style="box-sizing: content-box\; bottom: auto\; clear: none\; color: rgb(0\, 0\, 0)\; content: normal\; direction: inherit\; display: inline\; empty-cells: show\; float: none\; font-stretch: inherit\; font-size: 12px\; font-family: verdana\; left: auto\; line-height: 15.6px\; margin: 0px\; max-height: none\; max-width: none\; min-height: initial\; min-width: initial\; opacity: 1\; outline: invert none medium\; outline-offset: 0px\; overflow: visible\; padding: 0px\; position: static\; resize: none\; right: auto\; table-layout: auto\; text-overflow: clip\; top: auto\; vertical-align: baseline\; visibility: inherit\; word-break: inherit\; word-wrap: inherit\; z-index: auto\; border: none\; border-collapse: separate\; border-image-source: none\; border-image-slice: 100% 1 0\; border-image-repeat: stretch\; border-radius: 0px\; height: auto\; width: auto\; background-image: none\; background-attachment: initial\; background-size: initial\; background-origin: initial\; background-clip: initial\; background-position: initial\; background-repeat: initial\;" />\n<span style="color: rgb(0\, 0\, 0)\; font-family: verdana\; font-size: 12px\; line-height: 15.6px\;">Time: 7:30 a.m. to 9 :00 a.m.</span><br style="box-sizing: content-box\; bottom: auto\; clear: none\; color: rgb(0\, 0\, 0)\; content: normal\; direction: inherit\; display: inline\; empty-cells: show\; float: none\; font-stretch: inherit\; font-size: 12px\; font-family: verdana\; left: auto\; line-height: 15.6px\; margin: 0px\; max-height: none\; max-width: none\; min-height: initial\; min-width: initial\; opacity: 1\; outline: invert none medium\; outline-offset: 0px\; overflow: visible\; padding: 0px\; position: static\; resize: none\; right: auto\; table-layout: auto\; text-overflow: clip\; top: auto\; vertical-align: baseline\; visibility: inherit\; word-break: inherit\; word-wrap: inherit\; z-index: auto\; border: none\; border-collapse: separate\; border-image-source: none\; border-image-slice: 100% 1 0\; border-image-repeat: stretch\; border-radius: 0px\; height: auto\; width: auto\; background-image: none\; background-attachment: initial\; background-size: initial\; background-origin: initial\; background-clip: initial\; background-position: initial\; background-repeat: initial\;" />\n<span style="color: rgb(0\, 0\, 0)\; font-family: verdana\; font-size: 12px\; line-height: 15.6px\;">Location: Gordon Food Services &nbsp\;</span>
LOCATION:Location varies every month. If you're interested in hosting a Caf con Leche Membership Meeting\, contact the WMHCC at info@hccwm.org Location for July 21 Meeting : LINC Gallery 341 Hall St. Grand Rapids\,MI 49507
UID:e.2018.421
SEQUENCE:3
DTSTAMP:20260426T011527Z
URL:https://members.westmihcc.org/events/details/caf&#233;-con-leche-membership-meetings-2016-07-21-2016-421
END:VEVENT

END:VCALENDAR
