BEGIN:VCALENDAR
VERSION:2.0
PRODID:-//ChamberMaster//Event Calendar 2.0//EN
METHOD:PUBLISH
X-PUBLISHED-TTL:P3D
REFRESH-INTERVAL:P3D
CALSCALE:GREGORIAN
BEGIN:VEVENT
DTSTART:20160915T113000Z
DTEND:20160915T130000Z
X-MICROSOFT-CDO-ALLDAYEVENT:FALSE
SUMMARY:Café Con Leche Membership Meetings 2016
DESCRIPTION:One of the many benefits our membership offers is the monthly membership meetings in which members are able to meet the Hispanic Chamber staff\, Board of Directors and other members. The objective of membership meetings is to interact with our business community leaders\, exchange business cards and create new business opportunities to diversify their workforce\, supplier base\, and increase their involvement within the Hispanic Chamber network.\n\n\n\nNext Meeting:\n\nDate: Thursday\, October 20\, 2016\n\nTime: 7:30 a.m. to 9 :00 a.m.\n\nExpress Employment\n\n 1760 44th St SW #10\, Grand Rapids\, MI 49519
X-ALT-DESC;FMTTYPE=text/html:<span style="font-size:12px\;"><span style="color:#000000\;"><span style="font-family:verdana\;">One of the many benefits our membership offers is the monthly membership meetings in which members are able to meet the Hispanic Chamber staff\, Board of Directors and other members. The objective of membership meetings is to interact with our business community leaders\, exchange business cards and create new business opportunities to diversify their workforce\, supplier base\, and increase their involvement within the Hispanic Chamber network.<br />\n<br />\n<strong>Next Meeting:</strong><br />\nDate: Thursday\, October 20\, 2016<br />\nTime: 7:30 a.m. to 9 :00 a.m.</span></span><br />\n<span style="color:#000000\;"><span style="font-family:verdana\;">Express Employment<br />\n&#8203\;</span></span></span><span style="color: rgb(34\, 34\, 34)\; font-family: arial\, sans-serif\; line-height: 16.12px\;">1760 44th St SW #10\, Grand Rapids\, MI 49519</span><br />\n&nbsp\;
LOCATION:Location varies every month. If you're interested in hosting a Caf con Leche Membership Meeting\, contact the WMHCC at info@hccwm.org Location for September: SpartanNash 850 76th St SW\, Byron Center\, MI 49315 ** Use Clyde Park Ave SW East Parking lot**
UID:e.2018.342
SEQUENCE:3
DTSTAMP:20260425T225749Z
URL:https://members.westmihcc.org/events/details/caf&#233;-con-leche-membership-meetings-2016-09-15-2016-342
END:VEVENT

END:VCALENDAR
