BEGIN:VCALENDAR
VERSION:2.0
PRODID:-//ChamberMaster//Event Calendar 2.0//EN
METHOD:PUBLISH
X-PUBLISHED-TTL:P3D
REFRESH-INTERVAL:P3D
CALSCALE:GREGORIAN
BEGIN:VEVENT
DTSTART:20170518T113000Z
DTEND:20170518T130000Z
X-MICROSOFT-CDO-ALLDAYEVENT:FALSE
SUMMARY:Café Con Leche Membership Meetings 2017
DESCRIPTION:One of the many benefits our membership offers is the monthly membership meetings in which members are able to meet the Hispanic Chamber staff\, Board of Directors and other members. The objective of membership meetings is to interact with our business community leaders\, exchange business cards and create new business opportunities to diversify their workforce\, supplier base\, and increase their involvement within the Hispanic Chamber network.
X-ALT-DESC;FMTTYPE=text/html:<span style="color: rgb(0\, 0\, 0)\; font-family: verdana\; font-size: 12px\;">One of the many benefits our membership offers is the monthly membership meetings in which members are able to meet the Hispanic Chamber staff\, Board of Directors and other members. The objective of membership meetings is to interact with our business community leaders\, exchange business cards and create new business opportunities to diversify their workforce\, supplier base\, and increase their involvement within the Hispanic Chamber network.</span>
LOCATION:Location varies every month. If you're interested in hosting a Caf con Leche Membership Meeting\, contact the WMHCC at info@westmihcc.org Davenport University Conference room B 643 S Waverly Rd\, Holland\, MI 49423
UID:e.2018.600
SEQUENCE:3
DTSTAMP:20260425T120139Z
URL:https://members.westmihcc.org/events/details/caf&#233;-con-leche-membership-meetings-2017-600
END:VEVENT

END:VCALENDAR
