BEGIN:VCALENDAR
VERSION:2.0
PRODID:-//ChamberMaster//Event Calendar 2.0//EN
METHOD:PUBLISH
X-PUBLISHED-TTL:P3D
REFRESH-INTERVAL:P3D
CALSCALE:GREGORIAN
BEGIN:VEVENT
DTSTART:20161018T130000Z
DTEND:20161018T150000Z
X-MICROSOFT-CDO-ALLDAYEVENT:FALSE
SUMMARY:Can Your Business Survive HR’s Perfect Storm?
DESCRIPTION:There is a perfect storm brewing for small businesses that will affect how you hire\, manage and pay your labor force: 1) A serious shortage of skilled workers available to hire\; 2) Potential state and federal increases to the minimum wage\; and 3) The Department of Labor's overtime and exemption pay rule that takes effect December 1st. These changes could significantly impact your finances\, production\, customer service\, and employee engagement. In this session you'll learn how these changes can impact your business and what you can do weather this storm. You will share ideas with other business owners through facilitated discussion groups and take away tips and tools to help your business be prepared. No cost! To register\, please go to https://clients.sbdcmichigan.org/workshop.aspx?ekey=70360096 or call our office at 616-331-7370.
X-ALT-DESC;FMTTYPE=text/html:There is a perfect storm brewing for small businesses that will affect how you hire\, manage and pay your labor force: 1) A serious shortage of skilled workers available to hire\; 2) Potential state and federal increases to the minimum wage\; and 3) The Department of Labor&rsquo\;s overtime and exemption pay rule that takes effect December 1st. These changes could significantly impact your finances\, production\, customer service\, and employee engagement. In this session you&rsquo\;ll learn how these changes can impact your business and what you can do weather this storm. You will share ideas with other business owners through facilitated discussion groups and take away tips and tools to help your business be prepared. No cost! To register\, please go to https://clients.sbdcmichigan.org/workshop.aspx?ekey=70360096 or call our office at 616-331-7370.
LOCATION:GVSU Bicycle Factory 201 Front Ave Grand Rapids\, MI 49504
UID:e.2018.478
SEQUENCE:3
DTSTAMP:20260425T213039Z
URL:https://members.westmihcc.org/events/details/can-your-business-survive-hr-s-perfect-storm-478
END:VEVENT

END:VCALENDAR
