BEGIN:VCALENDAR
VERSION:2.0
PRODID:-//ChamberMaster//Event Calendar 2.0//EN
METHOD:PUBLISH
X-PUBLISHED-TTL:P3D
REFRESH-INTERVAL:P3D
CALSCALE:GREGORIAN
BEGIN:VEVENT
DTSTART:20170423T200000Z
DTEND:20170423T213000Z
X-MICROSOFT-CDO-ALLDAYEVENT:FALSE
SUMMARY:"Celebration of Diversity" Concert - Heartside Harmony Chamber Music Society
DESCRIPTION:Please join your newly-formed Heartside Harmony Music Society\, featuring moving\, accomplished and diverse classical musicians from West Michigan using the power of music to enact social change. Our very first concert celebrates diversity in many ways. Our featured artists include soprano Rhea Olivacc \, professor of voice at Western Michigan University and native of the Caribbean Island Dominica and Clarinetist David Yandl\, Michigan native. Join us to experience music by Mexican Composer Javier  lvarez\, Jewish/Argentinian composer Osvaldo Golijov\, and Mozart's celebrated Clarinet Quintet. More information at http://www.heartsideharmony.org/concert-calendar.html
X-ALT-DESC;FMTTYPE=text/html:Please join your newly-formed Heartside Harmony Music Society\, featuring moving\, accomplished and diverse classical musicians from West Michigan using the power of music to enact social change. Our very first concert celebrates diversity in many ways. Our featured artists include soprano Rhea Olivacc&eacute\;\, professor of voice at Western Michigan University and native of the Caribbean Island Dominica and Clarinetist David Yandl\, Michigan native. Join us to experience music by Mexican Composer Javier &Aacute\;lvarez\, Jewish/Argentinian composer Osvaldo Golijov\, and Mozart&#39\;s celebrated Clarinet Quintet. More information at http://www.heartsideharmony.org/concert-calendar.html
LOCATION:Fountain ST Church 24 Fountain ST NE Grand Rapids MI 49503
UID:e.2018.593
SEQUENCE:3
DTSTAMP:20260425T133918Z
URL:https://members.westmihcc.org/events/details/celebration-of-diversity-concert-heartside-harmony-chamber-music-society-593
END:VEVENT

END:VCALENDAR
