BEGIN:VCALENDAR
VERSION:2.0
PRODID:-//ChamberMaster//Event Calendar 2.0//EN
METHOD:PUBLISH
X-PUBLISHED-TTL:P3D
REFRESH-INTERVAL:P3D
CALSCALE:GREGORIAN
BEGIN:VEVENT
DTSTART:20191012T230000Z
DTEND:20191013T040000Z
X-MICROSOFT-CDO-ALLDAYEVENT:FALSE
SUMMARY:Championship Boxing
DESCRIPTION:Mad Dog and J&L Productions presents Championship Boxing
X-ALT-DESC;FMTTYPE=text/html:Mad Dog and J&amp\;L Productions presents Championship Boxing
LOCATION:The DeltaPlex Arena and Conference Center
UID:e.2018.1332
SEQUENCE:3
DTSTAMP:20260419T212104Z
URL:https://members.westmihcc.org/events/details/championship-boxing-1332
END:VEVENT

END:VCALENDAR
